BEGIN:VCALENDAR
VERSION:2.0
PRODID:-//Tempel Ridder Ordenen - ECPv6.15.17.1//NONSGML v1.0//EN
CALSCALE:GREGORIAN
METHOD:PUBLISH
X-ORIGINAL-URL:https://tempelridderordenen.no
X-WR-CALDESC:Arrangement for Tempel Ridder Ordenen
REFRESH-INTERVAL;VALUE=DURATION:PT1H
X-Robots-Tag:noindex
X-PUBLISHED-TTL:PT1H
BEGIN:VTIMEZONE
TZID:Europe/Oslo
BEGIN:DAYLIGHT
TZOFFSETFROM:+0100
TZOFFSETTO:+0200
TZNAME:CEST
DTSTART:20200329T010000
END:DAYLIGHT
BEGIN:STANDARD
TZOFFSETFROM:+0200
TZOFFSETTO:+0100
TZNAME:CET
DTSTART:20201025T010000
END:STANDARD
BEGIN:DAYLIGHT
TZOFFSETFROM:+0100
TZOFFSETTO:+0200
TZNAME:CEST
DTSTART:20210328T010000
END:DAYLIGHT
BEGIN:STANDARD
TZOFFSETFROM:+0200
TZOFFSETTO:+0100
TZNAME:CET
DTSTART:20211031T010000
END:STANDARD
BEGIN:DAYLIGHT
TZOFFSETFROM:+0100
TZOFFSETTO:+0200
TZNAME:CEST
DTSTART:20220327T010000
END:DAYLIGHT
BEGIN:STANDARD
TZOFFSETFROM:+0200
TZOFFSETTO:+0100
TZNAME:CET
DTSTART:20221030T010000
END:STANDARD
END:VTIMEZONE
BEGIN:VEVENT
DTSTART;TZID=Europe/Oslo:20211124T183000
DTEND;TZID=Europe/Oslo:20211124T220000
DTSTAMP:20260421T144645
CREATED:20211028T151902Z
LAST-MODIFIED:20211028T151902Z
UID:10000996-1637778600-1637791200@tempelridderordenen.no
SUMMARY:IG - Bodø
DESCRIPTION:
URL:https://tempelridderordenen.no/mote/ig-bodo-4/
END:VEVENT
BEGIN:VEVENT
DTSTART;TZID=Europe/Oslo:20211110T183000
DTEND;TZID=Europe/Oslo:20211110T220000
DTSTAMP:20260421T144645
CREATED:20211028T151816Z
LAST-MODIFIED:20211028T151816Z
UID:10000950-1636569000-1636581600@tempelridderordenen.no
SUMMARY:(RG) KG - Bodø (!)
DESCRIPTION:Dette møtet er endret fra et RG- til et KG-møte.
URL:https://tempelridderordenen.no/mote/rg-kg-bodo/
CATEGORIES:02-KG
END:VEVENT
BEGIN:VEVENT
DTSTART;TZID=Europe/Oslo:20211027T183000
DTEND;TZID=Europe/Oslo:20211027T220000
DTSTAMP:20260421T144645
CREATED:20210930T220415Z
LAST-MODIFIED:20211026T141746Z
UID:10000903-1635359400-1635372000@tempelridderordenen.no
SUMMARY:(IG) ARG - Bodø (!)
DESCRIPTION:NB: Dette møtet er endret fra et IG- til et ARG-møte
URL:https://tempelridderordenen.no/mote/ig-arg-bodo/
CATEGORIES:06-ARG
END:VEVENT
BEGIN:VEVENT
DTSTART;TZID=Europe/Oslo:20211013T183000
DTEND;TZID=Europe/Oslo:20211013T220000
DTSTAMP:20260421T144645
CREATED:20210930T220232Z
LAST-MODIFIED:20210930T220232Z
UID:10000905-1634149800-1634162400@tempelridderordenen.no
SUMMARY:IG - Bodø
DESCRIPTION:Valgmøte
URL:https://tempelridderordenen.no/mote/ig-bodo-3/
END:VEVENT
BEGIN:VEVENT
DTSTART;TZID=Europe/Oslo:20210929T183000
DTEND;TZID=Europe/Oslo:20210929T213000
DTSTAMP:20260421T144645
CREATED:20210729T104455Z
LAST-MODIFIED:20210913T122634Z
UID:10000847-1632940200-1632951000@tempelridderordenen.no
SUMMARY:(IG) RG - Bodø (!)
DESCRIPTION:NB: Dette møtet er endret fra IG til RG
URL:https://tempelridderordenen.no/mote/ig-bodo-2/
CATEGORIES:03-RG
END:VEVENT
BEGIN:VEVENT
DTSTART;TZID=Europe/Oslo:20210915T183000
DTEND;TZID=Europe/Oslo:20210915T213000
DTSTAMP:20260421T144645
CREATED:20210729T104243Z
LAST-MODIFIED:20210729T104243Z
UID:10000835-1631730600-1631741400@tempelridderordenen.no
SUMMARY:URG - Bodø
DESCRIPTION:
URL:https://tempelridderordenen.no/mote/urg-bodo/
CATEGORIES:07-URG
END:VEVENT
BEGIN:VEVENT
DTSTART;TZID=Europe/Oslo:20210901T183000
DTEND;TZID=Europe/Oslo:20210901T213000
DTSTAMP:20260421T144645
CREATED:20210729T104102Z
LAST-MODIFIED:20210729T104102Z
UID:10000849-1630521000-1630531800@tempelridderordenen.no
SUMMARY:IG - Bodø
DESCRIPTION:
URL:https://tempelridderordenen.no/mote/ig-bodo/
END:VEVENT
END:VCALENDAR